BEGIN:VCALENDAR
VERSION:2.0
PRODID:-//Vance Granville Community College - ECPv6.15.5//NONSGML v1.0//EN
CALSCALE:GREGORIAN
METHOD:PUBLISH
X-WR-CALNAME:Vance Granville Community College
X-ORIGINAL-URL:https://www.vgcc.edu
X-WR-CALDESC:Events for Vance Granville Community College
REFRESH-INTERVAL;VALUE=DURATION:PT1H
X-Robots-Tag:noindex
X-PUBLISHED-TTL:PT1H
BEGIN:VTIMEZONE
TZID:America/New_York
BEGIN:DAYLIGHT
TZOFFSETFROM:-0500
TZOFFSETTO:-0400
TZNAME:EDT
DTSTART:20260308T070000
END:DAYLIGHT
BEGIN:STANDARD
TZOFFSETFROM:-0400
TZOFFSETTO:-0500
TZNAME:EST
DTSTART:20261101T060000
END:STANDARD
END:VTIMEZONE
BEGIN:VEVENT
DTSTART;VALUE=DATE:20260306
DTEND;VALUE=DATE:20260307
DTSTAMP:20260423T185809
CREATED:20251201T133614Z
LAST-MODIFIED:20251201T133614Z
UID:10000195-1772755200-1772841599@www.vgcc.edu
SUMMARY:Curriculum Classes End (1st 8wk)**
DESCRIPTION:
URL:https://www.vgcc.edu/event/curriculum-classes-end-1st-8wk-4/
LOCATION:NC
END:VEVENT
BEGIN:VEVENT
DTSTART;VALUE=DATE:20260309
DTEND;VALUE=DATE:20260314
DTSTAMP:20260423T185809
CREATED:20251201T133640Z
LAST-MODIFIED:20251201T133640Z
UID:10000196-1773014400-1773446399@www.vgcc.edu
SUMMARY:Spring Break (No CU Classes)
DESCRIPTION:
URL:https://www.vgcc.edu/event/spring-break-no-cu-classes-2/
LOCATION:NC
END:VEVENT
BEGIN:VEVENT
DTSTART;VALUE=DATE:20260316
DTEND;VALUE=DATE:20260317
DTSTAMP:20260423T185809
CREATED:20251201T133738Z
LAST-MODIFIED:20251201T133738Z
UID:10000197-1773619200-1773705599@www.vgcc.edu
SUMMARY:Curriculum Classes Begin (2nd 8wk)
DESCRIPTION:
URL:https://www.vgcc.edu/event/curriculum-classes-begin-2nd-8wk-4/
LOCATION:NC
END:VEVENT
BEGIN:VEVENT
DTSTART;VALUE=DATE:20260317
DTEND;VALUE=DATE:20260318
DTSTAMP:20260423T185809
CREATED:20251201T133801Z
LAST-MODIFIED:20251201T133801Z
UID:10000198-1773705600-1773791999@www.vgcc.edu
SUMMARY:Last Day To Add A Class (2nd 8wk)
DESCRIPTION:
URL:https://www.vgcc.edu/event/last-day-to-add-a-class-2nd-8wk-4/
LOCATION:NC
END:VEVENT
BEGIN:VEVENT
DTSTART;TZID=America/New_York:20260317T110000
DTEND;TZID=America/New_York:20260317T120000
DTSTAMP:20260423T185809
CREATED:20260306T161008Z
LAST-MODIFIED:20260306T161008Z
UID:10000210-1773745200-1773748800@www.vgcc.edu
SUMMARY:V.I.E.W. Financial Literacy Lunch and Learn
DESCRIPTION:Vance-Granville’s Initiative for the Empowerment of Women (V.I.E.W.) is excited to host an upcoming Financial Literacy Lunch and Learn on March 17\, 2026\, and we would love for you to join us! \nThis session\, “Smart Finance\, Bright Futures\,” will feature special guest Catherine Chrisp\, Branch Manager of the North Carolina State Employees’ Credit Union in Warrenton. Catherine will lead an engaging and practical workshop designed to help participants better understand tools and strategies for financial success. \nVGCC Civic Center – Seminar Room 1 \nWhat to Expect: \n\nTips on improving credit scores\nGuidance on establishing scholarship funds for children\nInformation about the State Employees’ Credit Union and the services they provide
URL:https://www.vgcc.edu/event/v-i-e-w-lunch-and-learn/
LOCATION:VGCC Main Campus\, 200 Community College Rd\, Henderson\, NC\, 27537\, United States
END:VEVENT
BEGIN:VEVENT
DTSTART;TZID=America/New_York:20260317T180000
DTEND;TZID=America/New_York:20260317T180000
DTSTAMP:20260423T185809
CREATED:20260317T182030Z
LAST-MODIFIED:20260317T182036Z
UID:10000221-1773770400-1773770400@www.vgcc.edu
SUMMARY:America 250 Band Performance
DESCRIPTION:The Vance County America 250 Committee invites the public to a free patriotic concert by the Vance-Granville Community College Community Band on Tuesday\, March 17\, at 6:00 p.m. The concert will feature patriotic music in honor of the United States’ 250th anniversary\, which will be marked by commemorative events throughout the year. \nInvite a friend and join us as we honor the nation’s past\, engage residents in the present\, and inspire future generations!
URL:https://www.vgcc.edu/event/america-250-band-performance/
LOCATION:VGCC Main Campus\, 200 Community College Rd\, Henderson\, NC\, 27537\, United States
END:VEVENT
BEGIN:VEVENT
DTSTART;VALUE=DATE:20260319
DTEND;VALUE=DATE:20260320
DTSTAMP:20260423T185809
CREATED:20251201T133818Z
LAST-MODIFIED:20251201T133818Z
UID:10000199-1773878400-1773964799@www.vgcc.edu
SUMMARY:Last Day For A Partial Refund/Last Day To Drop With No Transcript Grade/Census Date (2nd 8wk)
DESCRIPTION:
URL:https://www.vgcc.edu/event/last-day-for-a-partial-refund-last-day-to-drop-with-no-transcript-grade-census-date-2nd-8wk-4/
LOCATION:NC
END:VEVENT
BEGIN:VEVENT
DTSTART;TZID=America/New_York:20260331T100000
DTEND;TZID=America/New_York:20260331T133000
DTSTAMP:20260423T185809
CREATED:20260311T203010Z
LAST-MODIFIED:20260312T192540Z
UID:10000215-1774951200-1774963800@www.vgcc.edu
SUMMARY:Student Entrepreneurship Fair
DESCRIPTION:This even is open to the public\, but only VGCC Students may participate as vendors. Participation is free for all VGCC Students. The goal is to highlight and promote student-owned small business while giving students the opportunity to showcase their products and services\, receive one-on-one promotion\, and network with fellow students\, faculty\, and community members. \nUp to 40 student small businesses will be selected to participate. Qualified participants include current and former VGCC students who own and operate a small business \nThe deadline to sign-up is March 27th\, 2026 at 5 PM; Register As A Vendor. Reach out to sga@vgcc.edu or (252) 738-3246 for more information. \nThis event will be held in the VGCC Civic Center and is being sponsored by the VGCC Small Business Center\, the VGCC SGA\, and the VGCC Entrepreneurship Club.
URL:https://www.vgcc.edu/event/student-entrepreneurship-fair/
LOCATION:VGCC Main Campus\, 200 Community College Rd\, Henderson\, NC\, 27537\, United States
END:VEVENT
END:VCALENDAR