BEGIN:VCALENDAR
VERSION:2.0
PRODID:-//Vance Granville Community College - ECPv6.15.5//NONSGML v1.0//EN
CALSCALE:GREGORIAN
METHOD:PUBLISH
X-ORIGINAL-URL:https://www.vgcc.edu
X-WR-CALDESC:Events for Vance Granville Community College
REFRESH-INTERVAL;VALUE=DURATION:PT1H
X-Robots-Tag:noindex
X-PUBLISHED-TTL:PT1H
BEGIN:VTIMEZONE
TZID:America/New_York
BEGIN:DAYLIGHT
TZOFFSETFROM:-0500
TZOFFSETTO:-0400
TZNAME:EDT
DTSTART:20240310T070000
END:DAYLIGHT
BEGIN:STANDARD
TZOFFSETFROM:-0400
TZOFFSETTO:-0500
TZNAME:EST
DTSTART:20241103T060000
END:STANDARD
END:VTIMEZONE
BEGIN:VEVENT
DTSTART;TZID=America/New_York:20241121T120000
DTEND;TZID=America/New_York:20241121T130000
DTSTAMP:20260421T113030
CREATED:20240923T170142Z
LAST-MODIFIED:20240923T170142Z
UID:10000070-1732190400-1732194000@www.vgcc.edu
SUMMARY:What’s New? Student Assistance Program - Lunch & Learn
DESCRIPTION:Please join us as we welcome representatives from MYgroup to discuss free counseling for you and any family member living in the home with you\, travel and trip bargains through the saving center\, ease of use of the website\, work-life-balance\, healthy living tips\, financial planning\, and much more. Bring your laptops with you\, so we can explore the site together. Feel free to use the LRCs on any of our four campuses too. Presented by: Elaine Thompson (MYgroup) & Cathy Davis and Malik Hargrove (Vance-Granville’s CASS Department). \nJoin Meeting
URL:https://www.vgcc.edu/event/whats-new-sap/
LOCATION:NC
END:VEVENT
BEGIN:VEVENT
DTSTART;TZID=America/New_York:20241121T193000
DTEND;TZID=America/New_York:20241121T193000
DTSTAMP:20260421T113030
CREATED:20240906T144131Z
LAST-MODIFIED:20240906T144131Z
UID:10000059-1732217400-1732217400@www.vgcc.edu
SUMMARY:VGCC Drama Presents: Agnes of God (Opening Night)
DESCRIPTION:VGCC Drama presents: Agnes of God by John Pielmeier \nThe play will take place in the small auditorium on the VGCC Main Campus in Henderson. The auditorium can be found on the lowest level of Building 2. \nAll Dates and Times \n\nNov. 21st- 7:30pm\nNov. 22nd- 7:30 pm\nNov. 23rd- 7:30 pm\nNov. 24th- 2:00pm\n\nContact Betsy Henderson for more information at hendersonb@vgcc.edu or (252) 738-3371.
URL:https://www.vgcc.edu/event/vgcc-drama-presents-agnes-of-god-opening-night/
LOCATION:VGCC Main Campus\, 200 Community College Rd\, Henderson\, NC\, 27537\, United States
END:VEVENT
END:VCALENDAR