BEGIN:VCALENDAR
VERSION:2.0
PRODID:-//Vance Granville Community College - ECPv6.15.5//NONSGML v1.0//EN
CALSCALE:GREGORIAN
METHOD:PUBLISH
X-ORIGINAL-URL:https://www.vgcc.edu
X-WR-CALDESC:Events for Vance Granville Community College
REFRESH-INTERVAL;VALUE=DURATION:PT1H
X-Robots-Tag:noindex
X-PUBLISHED-TTL:PT1H
BEGIN:VTIMEZONE
TZID:America/New_York
BEGIN:DAYLIGHT
TZOFFSETFROM:-0500
TZOFFSETTO:-0400
TZNAME:EDT
DTSTART:20240310T070000
END:DAYLIGHT
BEGIN:STANDARD
TZOFFSETFROM:-0400
TZOFFSETTO:-0500
TZNAME:EST
DTSTART:20241103T060000
END:STANDARD
END:VTIMEZONE
BEGIN:VEVENT
DTSTART;TZID=America/New_York:20241004T090000
DTEND;TZID=America/New_York:20241004T133000
DTSTAMP:20260422T143359
CREATED:20240821T152511Z
LAST-MODIFIED:20240821T152511Z
UID:10000052-1728032400-1728048600@www.vgcc.edu
SUMMARY:National Manufacturing Day Event
DESCRIPTION:Manufacturing Day is a celebration of modern manufacturing meant to inspire the next generation of manufacturers. This is an event designed to encourage students to learn skills that can be applied to employment in the manufacturing industry and beyond. Learn more from our Manufacturing Day Press Release. (Attendee Registration and Vendor Registration required.)
URL:https://www.vgcc.edu/event/national-manufacturing-day-event/
LOCATION:VGCC South Campus\, 1547 South Campus Dr\, Creedmoor\, 27522\, United States
END:VEVENT
END:VCALENDAR